BEGIN:VCALENDAR
VERSION:2.0
PRODID:hinto.net
X-PUBLISHED-TTL:P1W
BEGIN:VEVENT
UID:hinto.net-event_show-6862519
DTSTART:20260419T180500
SEQUENCE:0
CREATED:20260329T145258
LAST-MODIFIED:20260329T145258
TRANSP:OPAQUE
DTEND:20260419T181500
LOCATION:
SUMMARY:SRF 1: Meteo - 18.00 SO
CLASS:PUBLIC
DESCRIPTION:
ORGANIZER:
DTSTAMP:20260420T075304
ATTACH:https://www.hinto.net/de/events/srf-1-meteo-18-00-so-19-04-2026-1805-e2793135-20.html
END:VEVENT
END:VCALENDAR
