BEGIN:VCALENDAR
VERSION:2.0
PRODID:hinto.net
X-PUBLISHED-TTL:P1W
BEGIN:VEVENT
UID:hinto.net-event_show-6871964
DTSTART:20260423T033000
SEQUENCE:0
CREATED:20260402T042117
LAST-MODIFIED:20260402T042117
TRANSP:OPAQUE
DTEND:20260423T035500
LOCATION:
SUMMARY:SRF 1: Hinter den Hecken
CLASS:PUBLIC
DESCRIPTION:
ORGANIZER:
DTSTAMP:20260423T191615
ATTACH:https://www.hinto.net/de/events/srf-1-hinter-den-hecken-23-04-2026-0330-e2800368-20.html
END:VEVENT
END:VCALENDAR
