BEGIN:VCALENDAR
VERSION:2.0
PRODID:hinto.net
X-PUBLISHED-TTL:P1W
BEGIN:VEVENT
UID:hinto.net-event_show-6862511
DTSTART:20260419T130000
SEQUENCE:0
CREATED:20260410T224925
LAST-MODIFIED:20260410T224925
TRANSP:OPAQUE
DTEND:20260419T140000
LOCATION:
SUMMARY:SRF 1: BILANZ Standpunkte
CLASS:PUBLIC
DESCRIPTION:
ORGANIZER:
DTSTAMP:20260419T192751
ATTACH:https://www.hinto.net/de/events/srf-1-bilanz-standpunkte-19-04-2026-1300-e2793127-20.html
END:VEVENT
END:VCALENDAR
