BEGIN:VCALENDAR
VERSION:2.0
PRODID:hinto.net
X-PUBLISHED-TTL:P1W
BEGIN:VEVENT
UID:hinto.net-event_show-6872146
DTSTART:20260423T004000
SEQUENCE:0
CREATED:20260402T043433
LAST-MODIFIED:20260402T043433
TRANSP:OPAQUE
DTEND:20260423T015814
LOCATION:
SUMMARY:RTS 2: Documentaires
CLASS:PUBLIC
DESCRIPTION:
ORGANIZER:
DTSTAMP:20260423T161841
ATTACH:https://www.hinto.net/de/events/rts-2-documentaires-23-04-2026-0040-e2800550-20.html
END:VEVENT
END:VCALENDAR
