BEGIN:VCALENDAR
VERSION:2.0
PRODID:hinto.net
X-PUBLISHED-TTL:P1W
BEGIN:VEVENT
UID:hinto.net-event_show-6913186
DTSTART:20260417T012500
SEQUENCE:0
CREATED:20260415T192525
LAST-MODIFIED:20260415T192525
TRANSP:OPAQUE
DTEND:20260417T014200
LOCATION:
SUMMARY:RTS 2: Couleurs locales
CLASS:PUBLIC
DESCRIPTION:
ORGANIZER:
DTSTAMP:20260420T032313
ATTACH:https://www.hinto.net/de/events/rts-2-couleurs-locales-17-04-2026-0125-e2836844-20.html
END:VEVENT
END:VCALENDAR
