BEGIN:VCALENDAR
VERSION:2.0
PRODID:hinto.net
X-PUBLISHED-TTL:P1W
BEGIN:VEVENT
UID:hinto.net-event_show-6919425
DTSTART:20260419T134000
SEQUENCE:0
CREATED:20260417T042407
LAST-MODIFIED:20260417T042407
TRANSP:OPAQUE
DTEND:20260419T135846
LOCATION:
SUMMARY:RTS 1: Young Sheldon
CLASS:PUBLIC
DESCRIPTION:
ORGANIZER:
DTSTAMP:20260419T174037
ATTACH:https://www.hinto.net/de/events/rts-1-young-sheldon-19-04-2026-1340-e2842382-20.html
END:VEVENT
END:VCALENDAR
