BEGIN:VCALENDAR
VERSION:2.0
PRODID:hinto.net
X-PUBLISHED-TTL:P1W
BEGIN:VEVENT
UID:hinto.net-event_show-6931084
DTSTART:20260423T041700
SEQUENCE:0
CREATED:20260421T165019
LAST-MODIFIED:20260421T165019
TRANSP:OPAQUE
DTEND:20260423T041830
LOCATION:
SUMMARY:RTS 1: Météo
CLASS:PUBLIC
DESCRIPTION:
ORGANIZER:
DTSTAMP:20260423T190937
ATTACH:https://www.hinto.net/de/events/rts-1-meteo-23-04-2026-0417-e2852389-20.html
END:VEVENT
END:VCALENDAR
