BEGIN:VCALENDAR
VERSION:2.0
PRODID:hinto.net
X-PUBLISHED-TTL:P1W
BEGIN:VEVENT
UID:hinto.net-event_show-6871614
DTSTART:20260417T013000
SEQUENCE:0
CREATED:20260415T183906
LAST-MODIFIED:20260415T183906
TRANSP:OPAQUE
DTEND:20260417T020100
LOCATION:
SUMMARY:RTS 1: 19h30
CLASS:PUBLIC
DESCRIPTION:
ORGANIZER:
DTSTAMP:20260419T213425
ATTACH:https://www.hinto.net/de/events/rts-1-19h30-17-04-2026-0130-e2800018-20.html
END:VEVENT
END:VCALENDAR
