BEGIN:VCALENDAR
VERSION:2.0
PRODID:hinto.net
X-PUBLISHED-TTL:P1W
BEGIN:VEVENT
UID:hinto.net-event_show-6862628
DTSTART:20260419T165000
SEQUENCE:0
CREATED:20260329T145957
LAST-MODIFIED:20260329T145957
TRANSP:OPAQUE
DTEND:20260419T173114
LOCATION:
SUMMARY:RTS 1: Blue Bloods
CLASS:PUBLIC
DESCRIPTION:
ORGANIZER:
DTSTAMP:20260419T221137
ATTACH:https://www.hinto.net/de/events/rts-1-blue-bloods-19-04-2026-1650-e2793244-20.html
END:VEVENT
END:VCALENDAR
