BEGIN:VCALENDAR
VERSION:2.0
PRODID:hinto.net
X-PUBLISHED-TTL:P1W
BEGIN:VEVENT
UID:hinto.net-event_show-6872120
DTSTART:20260423T014000
SEQUENCE:0
CREATED:20260402T043135
LAST-MODIFIED:20260402T043135
TRANSP:OPAQUE
DTEND:20260423T021100
LOCATION:
SUMMARY:RTS 1: 19h30
CLASS:PUBLIC
DESCRIPTION:
ORGANIZER:
DTSTAMP:20260423T163656
ATTACH:https://www.hinto.net/de/events/rts-1-19h30-23-04-2026-0140-e2800524-20.html
END:VEVENT
END:VCALENDAR
