BEGIN:VCALENDAR
VERSION:2.0
PRODID:hinto.net
X-PUBLISHED-TTL:P1W
BEGIN:VEVENT
UID:hinto.net-event_show-6872418
DTSTART:20260422T221500
SEQUENCE:0
CREATED:20260402T045406
LAST-MODIFIED:20260402T045406
TRANSP:OPAQUE
DTEND:20260423T000000
LOCATION:
SUMMARY:RTL: stern TV
CLASS:PUBLIC
DESCRIPTION:
ORGANIZER:
DTSTAMP:20260423T221801
ATTACH:https://www.hinto.net/de/events/rtl-stern-tv-22-04-2026-2215-e2800822-20.html
END:VEVENT
END:VCALENDAR
