BEGIN:VCALENDAR
VERSION:2.0
PRODID:hinto.net
X-PUBLISHED-TTL:P1W
BEGIN:VEVENT
UID:hinto.net-event_show-6852838
DTSTART:20260417T000000
SEQUENCE:0
CREATED:20260326T183754
LAST-MODIFIED:20260326T183754
TRANSP:OPAQUE
DTEND:20260417T002500
LOCATION:
SUMMARY:RTL: RTL Nachtjournal
CLASS:PUBLIC
DESCRIPTION:
ORGANIZER:
DTSTAMP:20260420T023758
ATTACH:https://www.hinto.net/de/events/rtl-rtl-nachtjournal-17-04-2026-0000-e2784717-20.html
END:VEVENT
END:VCALENDAR
