BEGIN:VCALENDAR
VERSION:2.0
PRODID:hinto.net
X-PUBLISHED-TTL:P1W
BEGIN:VEVENT
UID:hinto.net-event_show-6863965
DTSTART:20260419T120300
SEQUENCE:0
CREATED:20260329T160118
LAST-MODIFIED:20260329T160118
TRANSP:OPAQUE
DTEND:20260419T160000
LOCATION:
SUMMARY:Radio SRF 3: Hitparade
CLASS:PUBLIC
DESCRIPTION:
ORGANIZER:
DTSTAMP:20260419T233620
ATTACH:https://www.hinto.net/de/events/radio-srf-3-hitparade-19-04-2026-1203-e2794581-20.html
END:VEVENT
END:VCALENDAR
