BEGIN:VCALENDAR
VERSION:2.0
PRODID:hinto.net
X-PUBLISHED-TTL:P1W
BEGIN:VEVENT
UID:hinto.net-event_show-6863922
DTSTART:20260419T200300
SEQUENCE:0
CREATED:20260329T160017
LAST-MODIFIED:20260329T160017
TRANSP:OPAQUE
DTEND:20260419T215900
LOCATION:
SUMMARY:Radio SRF 1: Country Special
CLASS:PUBLIC
DESCRIPTION:
ORGANIZER:
DTSTAMP:20260420T093730
ATTACH:https://www.hinto.net/de/events/radio-srf-1-country-special-19-04-2026-2003-e2794538-20.html
END:VEVENT
END:VCALENDAR
