BEGIN:VCALENDAR
VERSION:2.0
PRODID:hinto.net
X-PUBLISHED-TTL:P1W
BEGIN:VEVENT
UID:hinto.net-event_show-6867482
DTSTART:20260419T160500
SEQUENCE:0
CREATED:20260331T202159
LAST-MODIFIED:20260331T202159
TRANSP:OPAQUE
DTEND:20260419T163500
LOCATION:
SUMMARY:Puls 8: Die Super-Makler - Top oder Flop?
CLASS:PUBLIC
DESCRIPTION:
ORGANIZER:
DTSTAMP:20260419T221050
ATTACH:https://www.hinto.net/de/events/puls-8-die-super-makler-top-oder-flop-19-04-2026-1605-e2797450-20.html
END:VEVENT
END:VCALENDAR
