BEGIN:VCALENDAR
VERSION:2.0
PRODID:hinto.net
X-PUBLISHED-TTL:P1W
BEGIN:VEVENT
UID:hinto.net-event_show-6867474
DTSTART:20260419T123000
SEQUENCE:0
CREATED:20260331T202153
LAST-MODIFIED:20260331T202153
TRANSP:OPAQUE
DTEND:20260419T130000
LOCATION:
SUMMARY:Puls 8: Die Simpsons
CLASS:PUBLIC
DESCRIPTION:
ORGANIZER:
DTSTAMP:20260419T221045
ATTACH:https://www.hinto.net/de/events/puls-8-die-simpsons-19-04-2026-1230-e2797442-20.html
END:VEVENT
END:VCALENDAR
