BEGIN:VCALENDAR
VERSION:2.0
PRODID:hinto.net
X-PUBLISHED-TTL:P1W
BEGIN:VEVENT
UID:hinto.net-event_show-6555202
DTSTART:20261021T200000
SEQUENCE:0
CREATED:20251222T023737
LAST-MODIFIED:20251222T023737
TRANSP:OPAQUE

LOCATION:Kula
SUMMARY:Poetry Slam
CLASS:PUBLIC
DESCRIPTION:
ORGANIZER:
DTSTAMP:20260419T225301
ATTACH:https://www.hinto.net/de/events/poetry-slam-21-10-2026-2000-kula-konstanz-e2540612-20.html
END:VEVENT
END:VCALENDAR
