BEGIN:VCALENDAR
VERSION:2.0
PRODID:hinto.net
X-PUBLISHED-TTL:P1W
BEGIN:VEVENT
UID:hinto.net-event_show-6862838
DTSTART:20260419T132000
SEQUENCE:0
CREATED:20260329T151052
LAST-MODIFIED:20260329T151052
TRANSP:OPAQUE
DTEND:20260419T133500
LOCATION:
SUMMARY:ORF 2: Seitenblicke Weekend
CLASS:PUBLIC
DESCRIPTION:
ORGANIZER:
DTSTAMP:20260419T190515
ATTACH:https://www.hinto.net/de/events/orf-2-seitenblicke-weekend-19-04-2026-1320-e2793454-20.html
END:VEVENT
END:VCALENDAR
