BEGIN:VCALENDAR
VERSION:2.0
PRODID:hinto.net
X-PUBLISHED-TTL:P1W
BEGIN:VEVENT
UID:hinto.net-event_show-6865441
DTSTART:20260420T052000
SEQUENCE:0
CREATED:20260330T172925
LAST-MODIFIED:20260330T172925
TRANSP:OPAQUE
DTEND:20260420T055000
LOCATION:
SUMMARY:ORF 2: Vom Klang getragen
CLASS:PUBLIC
DESCRIPTION:
ORGANIZER:
DTSTAMP:20260419T155225
ATTACH:https://www.hinto.net/de/events/orf-2-vom-klang-getragen-20-04-2026-0520-e2795660-20.html
END:VEVENT
END:VCALENDAR
