BEGIN:VCALENDAR
VERSION:2.0
PRODID:hinto.net
X-PUBLISHED-TTL:P1W
BEGIN:VEVENT
UID:hinto.net-event_show-6862808
DTSTART:20260419T124000
SEQUENCE:0
CREATED:20260419T134408
LAST-MODIFIED:20260419T134408
TRANSP:OPAQUE
DTEND:20260419T131000
LOCATION:
SUMMARY:ORF 1: Sport-Bild
CLASS:PUBLIC
DESCRIPTION:
ORGANIZER:
DTSTAMP:20260419T161503
ATTACH:https://www.hinto.net/de/events/orf-1-sport-bild-19-04-2026-1240-e2793424-20.html
END:VEVENT
END:VCALENDAR
