BEGIN:VCALENDAR
VERSION:2.0
PRODID:hinto.net
X-PUBLISHED-TTL:P1W
BEGIN:VEVENT
UID:hinto.net-event_show-6863778
DTSTART:20260419T163500
SEQUENCE:0
CREATED:20260329T155827
LAST-MODIFIED:20260329T155827
TRANSP:OPAQUE
DTEND:20260419T173500
LOCATION:
SUMMARY:Nitro: Top Gear
CLASS:PUBLIC
DESCRIPTION:
ORGANIZER:
DTSTAMP:20260420T021547
ATTACH:https://www.hinto.net/de/events/nitro-top-gear-19-04-2026-1635-e2794394-20.html
END:VEVENT
END:VCALENDAR
