BEGIN:VCALENDAR
VERSION:2.0
PRODID:hinto.net
X-PUBLISHED-TTL:P1W
BEGIN:VEVENT
UID:hinto.net-event_show-6883241
DTSTART:20260425T182000
SEQUENCE:0
CREATED:20260404T204436
LAST-MODIFIED:20260404T204436
TRANSP:OPAQUE
DTEND:20260425T191000
LOCATION:
SUMMARY:Nitro: Die Tuning Profis
CLASS:PUBLIC
DESCRIPTION:
ORGANIZER:
DTSTAMP:20260420T023654
ATTACH:https://www.hinto.net/de/events/nitro-die-tuning-profis-25-04-2026-1820-e2810959-20.html
END:VEVENT
END:VCALENDAR
