BEGIN:VCALENDAR
VERSION:2.0
PRODID:hinto.net
X-PUBLISHED-TTL:P1W
BEGIN:VEVENT
UID:hinto.net-event_show-6863781
DTSTART:20260419T192000
SEQUENCE:0
CREATED:20260329T155829
LAST-MODIFIED:20260329T155829
TRANSP:OPAQUE
DTEND:20260419T201500
LOCATION:
SUMMARY:Nitro: CSI: New York
CLASS:PUBLIC
DESCRIPTION:
ORGANIZER:
DTSTAMP:20260420T051458
ATTACH:https://www.hinto.net/de/events/nitro-csi-new-york-19-04-2026-1920-e2794397-20.html
END:VEVENT
END:VCALENDAR
