BEGIN:VCALENDAR
VERSION:2.0
PRODID:hinto.net
X-PUBLISHED-TTL:P1W
BEGIN:VEVENT
UID:hinto.net-event_show-6862693
DTSTART:20260419T180000
SEQUENCE:0
CREATED:20260418T064745
LAST-MODIFIED:20260418T064745
TRANSP:OPAQUE
DTEND:20260419T180510
LOCATION:
SUMMARY:La 1: Telegiornale flash
CLASS:PUBLIC
DESCRIPTION:
ORGANIZER:
DTSTAMP:20260420T074637
ATTACH:https://www.hinto.net/de/events/la-1-telegiornale-flash-19-04-2026-1800-e2793309-20.html
END:VEVENT
END:VCALENDAR
