BEGIN:VCALENDAR
VERSION:2.0
PRODID:hinto.net
X-PUBLISHED-TTL:P1W
BEGIN:VEVENT
UID:hinto.net-event_show-6939396
DTSTART:20260423T015500
SEQUENCE:0
CREATED:20260422T184814
LAST-MODIFIED:20260422T184814
TRANSP:OPAQUE
DTEND:20260423T015800
LOCATION:
SUMMARY:La 1: Meteo
CLASS:PUBLIC
DESCRIPTION:
ORGANIZER:
DTSTAMP:20260423T151925
ATTACH:https://www.hinto.net/de/events/la-1-meteo-23-04-2026-0155-e2854737-20.html
END:VEVENT
END:VCALENDAR
