BEGIN:VCALENDAR
VERSION:2.0
PRODID:hinto.net
X-PUBLISHED-TTL:P1W
BEGIN:VEVENT
UID:hinto.net-event_show-6922311
DTSTART:20260419T044000
SEQUENCE:0
CREATED:20260419T150151
LAST-MODIFIED:20260419T150151
TRANSP:OPAQUE
DTEND:20260419T051000
LOCATION:
SUMMARY:Kabel Eins: Morlock Motors - Das Team
CLASS:PUBLIC
DESCRIPTION:
ORGANIZER:
DTSTAMP:20260419T213730
ATTACH:https://www.hinto.net/de/events/kabel-eins-morlock-motors-das-team-19-04-2026-0440-e2844838-20.html
END:VEVENT
END:VCALENDAR
