BEGIN:VCALENDAR
VERSION:2.0
PRODID:hinto.net
X-PUBLISHED-TTL:P1W
BEGIN:VEVENT
UID:hinto.net-event_show-6925797
DTSTART:20260419T160000
SEQUENCE:0
CREATED:20260419T150721
LAST-MODIFIED:20260419T150721
TRANSP:OPAQUE
DTEND:20260419T161000
LOCATION:
SUMMARY:Kabel Eins: Kabel Eins :newstime
CLASS:PUBLIC
DESCRIPTION:
ORGANIZER:
DTSTAMP:20260420T042017
ATTACH:https://www.hinto.net/de/events/kabel-eins-kabel-eins-newstime-19-04-2026-1600-e2847737-20.html
END:VEVENT
END:VCALENDAR
