BEGIN:VCALENDAR
VERSION:2.0
PRODID:hinto.net
X-PUBLISHED-TTL:P1W
BEGIN:VEVENT
UID:hinto.net-event_show-6865064
DTSTART:20260418T231500
SEQUENCE:0
CREATED:20260330T170932
LAST-MODIFIED:20260330T170932
TRANSP:OPAQUE
DTEND:20260419T001000
LOCATION:
SUMMARY:Kabel Eins: FBI: Most Wanted
CLASS:PUBLIC
DESCRIPTION:
ORGANIZER:
DTSTAMP:20260419T194312
ATTACH:https://www.hinto.net/de/events/kabel-eins-fbi-most-wanted-18-04-2026-2315-e2795283-20.html
END:VEVENT
END:VCALENDAR
