BEGIN:VCALENDAR
VERSION:2.0
PRODID:hinto.net
X-PUBLISHED-TTL:P1W
BEGIN:VEVENT
UID:hinto.net-event_show-6860406
DTSTART:20260419T044500
SEQUENCE:0
CREATED:20260418T063959
LAST-MODIFIED:20260418T063959
TRANSP:OPAQUE
DTEND:20260419T053500
LOCATION:
SUMMARY:DMAX: Max' Carshop - Schrauben frei Schnauze
CLASS:PUBLIC
DESCRIPTION:
ORGANIZER:
DTSTAMP:20260419T190908
ATTACH:https://www.hinto.net/de/events/dmax-max-carshop-schrauben-frei-schnauze-19-04-2026-0445-e2791585-20.html
END:VEVENT
END:VCALENDAR
