BEGIN:VCALENDAR
VERSION:2.0
PRODID:hinto.net
X-PUBLISHED-TTL:P1W
BEGIN:VEVENT
UID:hinto.net-event_show-6863760
DTSTART:20260419T231500
SEQUENCE:0
CREATED:20260329T155743
LAST-MODIFIED:20260329T155743
TRANSP:OPAQUE
DTEND:20260420T002000
LOCATION:
SUMMARY:DMAX: Expedition Unknown - Mythen auf der Spur
CLASS:PUBLIC
DESCRIPTION:
ORGANIZER:
DTSTAMP:20260420T075546
ATTACH:https://www.hinto.net/de/events/dmax-expedition-unknown-mythen-auf-der-spur-19-04-2026-2315-e2794376-20.html
END:VEVENT
END:VCALENDAR
