BEGIN:VCALENDAR
VERSION:2.0
PRODID:hinto.net
X-PUBLISHED-TTL:P1W
BEGIN:VEVENT
UID:hinto.net-event_show-6864288
DTSTART:20260419T170000
SEQUENCE:0
CREATED:20260330T050904
LAST-MODIFIED:20260330T050904
TRANSP:OPAQUE

LOCATION:
SUMMARY:Concert Ny Ako
CLASS:PUBLIC
DESCRIPTION:
ORGANIZER:
DTSTAMP:20260419T181353
ATTACH:https://www.hinto.net/de/events/concert-ny-ako-19-04-2026-1700-e2794757-20.html
END:VEVENT
END:VCALENDAR
