BEGIN:VCALENDAR
VERSION:2.0
PRODID:hinto.net
X-PUBLISHED-TTL:P1W
BEGIN:VEVENT
UID:hinto.net-event_show-6863715
DTSTART:20260420T022500
SEQUENCE:0
CREATED:20260329T155709
LAST-MODIFIED:20260329T155709
TRANSP:OPAQUE
DTEND:20260420T031000
LOCATION:
SUMMARY:BR: Unter unserem Himmel
CLASS:PUBLIC
DESCRIPTION:
ORGANIZER:
DTSTAMP:20260419T233725
ATTACH:https://www.hinto.net/de/events/br-unter-unserem-himmel-20-04-2026-0225-e2794331-20.html
END:VEVENT
END:VCALENDAR
