BEGIN:VCALENDAR
VERSION:2.0
PRODID:hinto.net
X-PUBLISHED-TTL:P1W
BEGIN:VEVENT
UID:hinto.net-event_show-6873314
DTSTART:20260422T224500
SEQUENCE:0
CREATED:20260402T052352
LAST-MODIFIED:20260402T052352
TRANSP:OPAQUE
DTEND:20260423T001500
LOCATION:
SUMMARY:BR: Der Waldmacher
CLASS:PUBLIC
DESCRIPTION:
ORGANIZER:
DTSTAMP:20260423T164025
ATTACH:https://www.hinto.net/de/events/br-der-waldmacher-22-04-2026-2245-e2801718-20.html
END:VEVENT
END:VCALENDAR
