BEGIN:VCALENDAR
VERSION:2.0
PRODID:hinto.net
X-PUBLISHED-TTL:P1W
BEGIN:VEVENT
UID:hinto.net-event_show-6863716
DTSTART:20260420T031000
SEQUENCE:0
CREATED:20260329T155709
LAST-MODIFIED:20260329T155709
TRANSP:OPAQUE
DTEND:20260420T034000
LOCATION:
SUMMARY:BR: Bergauf-Bergab
CLASS:PUBLIC
DESCRIPTION:
ORGANIZER:
DTSTAMP:20260419T155155
ATTACH:https://www.hinto.net/de/events/br-bergauf-bergab-20-04-2026-0310-e2794332-20.html
END:VEVENT
END:VCALENDAR
