BEGIN:VCALENDAR
VERSION:2.0
PRODID:hinto.net
X-PUBLISHED-TTL:P1W
BEGIN:VEVENT
UID:hinto.net-event_show-6896498
DTSTART:20260430T072000
SEQUENCE:0
CREATED:20260409T194601
LAST-MODIFIED:20260409T194601
TRANSP:OPAQUE
DTEND:20260430T080500
LOCATION:
SUMMARY:Arte: Stadt Land Kunst
CLASS:PUBLIC
DESCRIPTION:
ORGANIZER:
DTSTAMP:20260419T194206
ATTACH:https://www.hinto.net/de/events/arte-stadt-land-kunst-30-04-2026-0720-e2822348-20.html
END:VEVENT
END:VCALENDAR
