BEGIN:VCALENDAR
VERSION:2.0
PRODID:hinto.net
X-PUBLISHED-TTL:P1W
BEGIN:VEVENT
UID:hinto.net-event_show-6862733
DTSTART:20260419T120000
SEQUENCE:0
CREATED:20260329T150541
LAST-MODIFIED:20260329T150541
TRANSP:OPAQUE
DTEND:20260419T120300
LOCATION:
SUMMARY:ARD: Tagesschau
CLASS:PUBLIC
DESCRIPTION:
ORGANIZER:
DTSTAMP:20260419T161423
ATTACH:https://www.hinto.net/de/events/ard-tagesschau-19-04-2026-1200-e2793349-20.html
END:VEVENT
END:VCALENDAR
