BEGIN:VCALENDAR
VERSION:2.0
PRODID:hinto.net
X-PUBLISHED-TTL:P1W
BEGIN:VEVENT
UID:hinto.net-event_show-6872237
DTSTART:20260423T032000
SEQUENCE:0
CREATED:20260402T043818
LAST-MODIFIED:20260402T043818
TRANSP:OPAQUE
DTEND:20260423T043500
LOCATION:
SUMMARY:ARD: Maischberger
CLASS:PUBLIC
DESCRIPTION:
ORGANIZER:
DTSTAMP:20260423T190314
ATTACH:https://www.hinto.net/de/events/ard-maischberger-23-04-2026-0320-e2800641-20.html
END:VEVENT
END:VCALENDAR
