BEGIN:VCALENDAR
VERSION:2.0
PRODID:hinto.net
X-PUBLISHED-TTL:P1W
BEGIN:VEVENT
UID:hinto.net-event_show-6872236
DTSTART:20260422T225000
SEQUENCE:0
CREATED:20260402T043817
LAST-MODIFIED:20260402T043817
TRANSP:OPAQUE
DTEND:20260423T000500
LOCATION:
SUMMARY:ARD: Maischberger
CLASS:PUBLIC
DESCRIPTION:
ORGANIZER:
DTSTAMP:20260423T190314
ATTACH:https://www.hinto.net/de/events/ard-maischberger-22-04-2026-2250-e2800640-20.html
END:VEVENT
END:VCALENDAR
