BEGIN:VCALENDAR
VERSION:2.0
PRODID:hinto.net
X-PUBLISHED-TTL:P1W
BEGIN:VEVENT
UID:hinto.net-event_show-6873080
DTSTART:20260423T030000
SEQUENCE:0
CREATED:20260402T051212
LAST-MODIFIED:20260402T051212
TRANSP:OPAQUE
DTEND:20260423T060000
LOCATION:
SUMMARY:5+: Susi.live
CLASS:PUBLIC
DESCRIPTION:
ORGANIZER:
DTSTAMP:20260423T203000
ATTACH:https://www.hinto.net/de/events/5+-susi-live-23-04-2026-0300-e2801484-20.html
END:VEVENT
END:VCALENDAR
