BEGIN:VCALENDAR
VERSION:2.0
PRODID:hinto.net
X-PUBLISHED-TTL:P1W
BEGIN:VEVENT
UID:hinto.net-event_show-6919377
DTSTART:20260418T234000
SEQUENCE:0
CREATED:20260417T042232
LAST-MODIFIED:20260417T042232
TRANSP:OPAQUE
DTEND:20260419T003500
LOCATION:
SUMMARY:5+: FBI: Special Crime Unit
CLASS:PUBLIC
DESCRIPTION:
ORGANIZER:
DTSTAMP:20260420T034741
ATTACH:https://www.hinto.net/de/events/5+-fbi-special-crime-unit-18-04-2026-2340-e2842334-20.html
END:VEVENT
END:VCALENDAR
