BEGIN:VCALENDAR
VERSION:2.0
PRODID:hinto.net
X-PUBLISHED-TTL:P1W
BEGIN:VEVENT
UID:hinto.net-event_show-6862877
DTSTART:20260419T130000
SEQUENCE:0
CREATED:20260329T151250
LAST-MODIFIED:20260329T151250
TRANSP:OPAQUE
DTEND:20260419T131500
LOCATION:
SUMMARY:3Sat: ZIB
CLASS:PUBLIC
DESCRIPTION:
ORGANIZER:
DTSTAMP:20260419T201722
ATTACH:https://www.hinto.net/de/events/3sat-zib-19-04-2026-1300-e2793493-20.html
END:VEVENT
END:VCALENDAR
