BEGIN:VCALENDAR
VERSION:2.0
PRODID:hinto.net
X-PUBLISHED-TTL:P1W
BEGIN:VEVENT
UID:hinto.net-event_show-6859461
DTSTART:20260418T233000
SEQUENCE:0
CREATED:20260328T054132
LAST-MODIFIED:20260328T054132
TRANSP:OPAQUE
DTEND:20260419T005500
LOCATION:
SUMMARY:3Sat: Styx
CLASS:PUBLIC
DESCRIPTION:
ORGANIZER:
DTSTAMP:20260419T185642
ATTACH:https://www.hinto.net/de/events/3sat-styx-18-04-2026-2330-e2790640-20.html
END:VEVENT
END:VCALENDAR
