BEGIN:VCALENDAR
VERSION:2.0
PRODID:hinto.net
X-PUBLISHED-TTL:P1W
BEGIN:VEVENT
UID:hinto.net-event_show-6914250
DTSTART:20260506T124500
SEQUENCE:0
CREATED:20260415T201957
LAST-MODIFIED:20260415T201957
TRANSP:OPAQUE
DTEND:20260506T131500
LOCATION:
SUMMARY:3Sat: Bergauf-Bergab
CLASS:PUBLIC
DESCRIPTION:
ORGANIZER:
DTSTAMP:20260419T143344
ATTACH:https://www.hinto.net/de/events/3sat-bergauf-bergab-06-05-2026-1245-e2837908-20.html
END:VEVENT
END:VCALENDAR
