BEGIN:VCALENDAR
VERSION:2.0
PRODID:hinto.net
X-PUBLISHED-TTL:P1W
BEGIN:VEVENT
UID:hinto.net-event_show-6863861
DTSTART:20260419T192000
SEQUENCE:0
CREATED:20260329T155952
LAST-MODIFIED:20260329T155952
TRANSP:OPAQUE
DTEND:20260419T201500
LOCATION:
SUMMARY:ZDFneo: Death in Paradise
CLASS:PUBLIC
DESCRIPTION:
ORGANIZER:
DTSTAMP:20260420T052102
ATTACH:https://www.hinto.net/de/events/zdfneo-death-in-paradise-19-04-2026-1920-e2794477-20.html
END:VEVENT
END:VCALENDAR
