BEGIN:VCALENDAR
VERSION:2.0
PRODID:hinto.net
X-PUBLISHED-TTL:P1W
BEGIN:VEVENT
UID:hinto.net-event_show-6878706
DTSTART:20260424T090500
SEQUENCE:0
CREATED:20260403T135941
LAST-MODIFIED:20260403T135941
TRANSP:OPAQUE
DTEND:20260424T103000
LOCATION:
SUMMARY:ZDF: Volle Kanne - Service täglich
CLASS:PUBLIC
DESCRIPTION:
ORGANIZER:
DTSTAMP:20260419T231758
ATTACH:https://www.hinto.net/de/events/zdf-volle-kanne-service-taeglich-24-04-2026-0905-e2806612-20.html
END:VEVENT
END:VCALENDAR
