BEGIN:VCALENDAR
VERSION:2.0
PRODID:hinto.net
X-PUBLISHED-TTL:P1W
BEGIN:VEVENT
UID:hinto.net-event_show-6862769
DTSTART:20260419T093000
SEQUENCE:0
CREATED:20260329T150747
LAST-MODIFIED:20260329T150747
TRANSP:OPAQUE
DTEND:20260419T101500
LOCATION:
SUMMARY:ZDF: Evangelischer Gottesdienst
CLASS:PUBLIC
DESCRIPTION:
ORGANIZER:
DTSTAMP:20260419T233945
ATTACH:https://www.hinto.net/de/events/zdf-evangelischer-gottesdienst-19-04-2026-0930-e2793385-20.html
END:VEVENT
END:VCALENDAR
