BEGIN:VCALENDAR
VERSION:2.0
PRODID:hinto.net
X-PUBLISHED-TTL:P1W
BEGIN:VEVENT
UID:hinto.net-event_show-6921871
DTSTART:20260624T190000
SEQUENCE:0
CREATED:20260417T071636
LAST-MODIFIED:20260417T071636
TRANSP:OPAQUE
DTEND:20260624T230000
LOCATION:Hagenhaus
SUMMARY:Violoncello V
CLASS:PUBLIC
DESCRIPTION:
ORGANIZER:
DTSTAMP:20260420T045302
ATTACH:https://www.hinto.net/de/events/violoncello-v-24-06-2026-1900-hagenhaus-nendeln-e2844650-20.html
END:VEVENT
END:VCALENDAR
