BEGIN:VCALENDAR
VERSION:2.0
PRODID:hinto.net
X-PUBLISHED-TTL:P1W
BEGIN:VEVENT
UID:hinto.net-event_show-6863271
DTSTART:20260419T130000
SEQUENCE:0
CREATED:20260329T153506
LAST-MODIFIED:20260329T153506
TRANSP:OPAQUE
DTEND:20260419T140000
LOCATION:
SUMMARY:TVO Tele Ostschweiz: premiumshopping.tv
CLASS:PUBLIC
DESCRIPTION:
ORGANIZER:
DTSTAMP:20260419T230211
ATTACH:https://www.hinto.net/de/events/tvo-tele-ostschweiz-premiumshopping-tv-19-04-2026-1300-e2793887-20.html
END:VEVENT
END:VCALENDAR
