BEGIN:VCALENDAR
VERSION:2.0
PRODID:hinto.net
X-PUBLISHED-TTL:P1W
BEGIN:VEVENT
UID:hinto.net-event_show-6922416
DTSTART:20260419T023500
SEQUENCE:0
CREATED:20260418T114143
LAST-MODIFIED:20260418T114143
TRANSP:OPAQUE
DTEND:20260419T060000
LOCATION:
SUMMARY:TV24: Susi.live
CLASS:PUBLIC
DESCRIPTION:
ORGANIZER:
DTSTAMP:20260419T144548
ATTACH:https://www.hinto.net/de/events/tv24-susi-live-19-04-2026-0235-e2844943-20.html
END:VEVENT
END:VCALENDAR
