BEGIN:VCALENDAR
VERSION:2.0
PRODID:hinto.net
X-PUBLISHED-TTL:P1W
BEGIN:VEVENT
UID:hinto.net-event_show-6540070
DTSTART:20260822T193000
SEQUENCE:0
CREATED:20251219T064452
LAST-MODIFIED:20251219T064452
TRANSP:OPAQUE
DTEND:20260822T220000
LOCATION:Seebühne Thun
SUMMARY:Thunerseespiele - GREASE
CLASS:PUBLIC
DESCRIPTION:
ORGANIZER:
DTSTAMP:20260419T214840
ATTACH:https://www.hinto.net/de/events/thunerseespiele-grease-22-08-2026-1930-seebuehne-thun-thun-e2527020-20.html
END:VEVENT
END:VCALENDAR
